BEGIN:VCALENDAR
VERSION:2.0
PRODID:-//OCAMM - ECPv6.2.9//NONSGML v1.0//EN
CALSCALE:GREGORIAN
METHOD:PUBLISH
X-ORIGINAL-URL:https://ocamm.fi
X-WR-CALDESC:Events for OCAMM
REFRESH-INTERVAL;VALUE=DURATION:PT1H
X-Robots-Tag:noindex
X-PUBLISHED-TTL:PT1H
BEGIN:VTIMEZONE
TZID:Europe/Helsinki
BEGIN:DAYLIGHT
TZOFFSETFROM:+0200
TZOFFSETTO:+0300
TZNAME:EEST
DTSTART:20240331T010000
END:DAYLIGHT
BEGIN:STANDARD
TZOFFSETFROM:+0300
TZOFFSETTO:+0200
TZNAME:EET
DTSTART:20241027T010000
END:STANDARD
END:VTIMEZONE
BEGIN:VEVENT
DTSTART;VALUE=DATE:20240312
DTEND;VALUE=DATE:20240315
DTSTAMP:20260423T011621
CREATED:20230816T150048Z
LAST-MODIFIED:20240802T151728Z
UID:72-1710201600-1710460799@ocamm.fi
SUMMARY:LOBSTER School 2024
DESCRIPTION:LOBSTER School on Chemical Bonding Analysis\n \nMotivation and overview\nThe need to understand why a particular material is stable or not is of paramount importance for computational materials science. Today\, atomic-scale materials modelling is clearly dominated by high-performance density-functional theory (DFT) using plane waves and pseudopotentials\, but understanding the often incredibly complex results frequently benefits from a thorough chemical-bonding analysis using local orbitals. This 3-day school will teach ~25 participants how to carry out chemical-bonding analysis in general. In particular\, the computer program LOBSTER will be introduced\, which has been designed to suit the needs of high-performance materials simulations by being able to process output from VASP\, ABINIT and Quantum ESPRESSO. The school will be the fifth in a series of previous successful ones in Germany\, China\, Japan\, and an online school during the COVID-19 pandemic. It is targeted at researchers from various fields of computational science such as chemistry\, physics\, and materials science. \nMethods for chemical-bonding analysis\nAs the search for new materials based on increasingly CPU-affordable electronic structure calculations gathers pace\, and the amount of data generated by high-throughput calculations continues to accumulate\, it becomes important to develop effective quantitative techniques to make sense of this wealth of information. While electronic structure calculations\, predominantly based on DFT\, have proven increasingly reliable and useful in understanding and predicting the properties of solids\, the intricate contribution of local bonding networks in these materials escapes the most commonly used DFT analysis tools. A standard tool to probe the local character of the material’s band structure is the projected density of states (PDOS). Unfortunately\, the PDOS only provides information about where electrons reside in the material\, and not about how much local interactions contribute to the cohesive energy of the material. The crystal orbital Hamilton population (COHP) analysis\, developed by Dronskowski and Blöchl in 1993\, allows one to quantify the energy contribution of individual atomic bonds to the total energy of the system (the bond strength). This tool has established itself as a widely used method for understanding existing and new materials\, because it provides a detailed quantitative way to establish links between the (macroscopic) properties of a material and its microscopic structure. \nLecturers\n\nProf. Richard Dronskowski\, RWTH Aachen University (Germany)\nProf. Volker Deringer\, University of Oxford (UK)\nDr. Janine George\, Federal Institute for Materials Research and Testing\, Berlin (Germany) and FS University Jena (Germany)\nDr. David Schnieders\, RWTH Aachen University (Germany)\nPeter Müller\, RWTH Aachen University (Germany)\n\nVenue\nThe LOBSTER School 2024 will take place in the main campus of Aalto University\, in the Helsinki metropolitan area. The School’s venue is Aalto Design Factory‘s Studio\, Puumiehenkuja 5A\, Espoo\, 02150 Finland. \nAalto University is very well connected within the Helsinki metro area. The Otaniemi campus can be reached via metro (“Aalto University” stop) and the light rail (“Maari”\, “Aalto-yliopisto” and “Otaranta” stops\, from west to east). Please visit the website of HSL\, the company operating the public transport system in the Helsinki metro area. This includes buses\, the metro\, trains\, downtown trams\, the light rail\, and some municipal ferry services (e.g.\, to the Suomenlinna fortress island). Public transport in the Helsinki metro area is safe\, clean and reliable. The easiest way to use the public transport system is to download the HSL app on your phone. \nThe Aalto University campus can be reached from Helsinki airport\, e.g.\, by combining the train with the metro (changing at Helsinki’s Central Railway Station). Non-collective public transport options like taxis are also available\, including popular apps like Uber; these are significantly pricier than collective transportations but might be more convenient depending on the situation (e.g.\, if you are in a hurry to reach the airport). \nSchedule\nThis is the preliminary schedule. More detailed information will be provided later. \n\n\n\n\nTuesday 12 March\nWednesday 13 March\nThursday 14 March\n\n\n9:00 – 9:30\nRegistration and welcome addresses (9:20 Miguel Caro & 9:25 Richard Dronskowski)\n\n\n\n\n9:30 – 10:30\nChemical Bonding 101 (Richard Dronskowski)\nCharges\, Madelung\, Bond Indices\, Polarizations (Peter Mueller)\nDefects\, nanomaterials\, amorphous matter (Volker Deringer)\n\n\n10:30 – 11:00\nCoffee break\nCoffee break\nCoffee break\n\n\n11:00 – 12:30\nPractical session: LOBSTER installation\, first steps\nPractical session: advanced features and visualization\nPractical session: application of the previous session\n\n\n12:30 – 14:00\nLunch break (participants pay for their own lunch – Maukas space reservation at 12:45)\nLunch break (participants pay for their own lunch – Maukas space reservation at 12:45)\nLunch break (participants pay for their own lunch – Arvo space reservation at 12:45)\n\n\n14:00 – 15:00\nLOBSTER nuts-and-bolts\, plane waves & orbitals\, projection to atomic orbitals (Daniel Schnieders)\nLOBSTER advanced\, projection to molecular orbitals\, other basis sets\, magnetism\nLOBSTER automation (Janine George)\n\n\n15:00 – 15:30\nCoffee break\nCoffee break\nCoffee break\n\n\n15:30 – 17:00\nPractical session: basic features\nPractical session: more advanced features\nPractical session: application of the previous session\n\n\n17:30 – 19:00\nPoster session (takes place at the School of Chemical Engineering building’s upstairs lobby\, Kemistintie 1)\n\n\n\n\n18:30 – 20:30\n\nDinner @ Fat Lizard Restaurant Otaniemi\n\n\n\n\nParticipants\n\n\n\nName\nInstitution\nContact\n\n\nMiguel Caro\nAalto University\nmiguel.caro@aalto.fi\n\n\nPeter Müller\nRWTH Aachen University\npeter.mueller@ac.rwth-aachen.de\n\n\nHanwen Zhang\nUniversity of Oxford\n\n\n\nJavier Sanz Rodrigo\nDTU\nsanz@dtu.dk\n\n\nRajeev Dutt\nUniversity of Warwick\nrajeev.dutt@warwick.ac.uk\n\n\nLinh Tong\nAalto University\nlinh.tong@aalto.fi\n\n\nVolker Deringer\nUniversity of Oxford\nvolker.deringer@chem.ox.ac.uk\n\n\nWanja Schulze\nUniversity of Jena\nwanja.schulze@uni-jena.de\n\n\nNityasagar Jena\nLinköping University\nnityasagar.jena@liu.se\n\n\nRansel Barzaga\nInstituto de Astrofísica de Canarias\n\n\n\nScott Simpson\nSt. Bonaventure University\nssimpson@sbu.edu\n\n\nAlyssa Santos\nSt. Bonaventure University\n\n\n\nAnson Thomas\nIndian Institute of Technology Roorkee\nanson_t@cy.iitr.ac.in\n\n\nM.D. Hashan C. Peiris\nBinghamton University – State University of New York\nmpeiris1@binghamton.edu\n\n\nRichard Dronskowski\nRWTH Aachen University\n\n\n\nDivya Srivastava\nTurku University\ndivya.srivastava@utu.fi\n\n\nPablo Castro Latorre\nUniversity of Barcelona\np.castrola@ub.edu\n\n\nElisa Damiani\nUniversity of Bologna\nelisa.damiani4@unibo.it\n\n\nMadhavi Dalsaniya\nWarsaw University of Technology\nmadhavi.dalsaniya.dokt@pw.edu.pl\n\n\nYiXu Wang\nRWTH Aachen University\nyixu.wang@ac.rwth-aachen.de\n\n\nEdith Simmen\nETH Zurich\nedith.simmen@mat.ethz.ch\n\n\nRafael Nunez\nAalto University\nrafael.nunez@aalto.fi\n\n\nAleksandra Oranskaia\nKAUST\naleksandra.oranskaia@kaust.edu.sa\n\n\nDavid Schnieders\nRWTH Aachen University\ndavid.schnieders@ac.rwth-aachen.de\n\n\nNeeraj Mishra\nBen-Gurion University of the Negev\nneeraj@post.bgu.ac.il\n\n\nMadhavi Dalsaniya\nWarsaw University of Technology\nmadhavi.dalsaniya.dokt@pw.edu.pl\n\n\nRina Ibragimova\nAalto University\nrina.ibragimova@aalto.fi\n\n\nMunavvar Husain\nUniversity of Warsaw\n\n\n\nJanine George\nBAM Berlin\n\n\n\n\nOnline resources\n\nLOBSTER website (for code download\, etc.): http://cohp.de/\nGithub repository: https://github.com/davSchnieders/LOBSTERSchool\nwxDragon fro visualization: Linux version; Windows version\nStep-by-step procedure:\n\nDownload and unpack the LOBSTER code\nAdd the LOBSTER binary to your PATH: export PATH=/lobster_code_root_directory:$PATH\nClone the github repo: git clone https://github.com/davSchnieders/LOBSTERSchool.git\nDownload and unpack wxDragon\nMake the wxDragon binary executable (from within the wxDragon directory): chmod +x wxDragon\nAdd the wxDragon binary to your PATH: export PATH=/wxDragon_code_root_directory:$PATH\n\n\nTo install LobsterPy\, you can just do: pip install lobsterpy (under Ubuntu\, you may also need to upgrade your requests package\, e.g.: pip install requests==2.25.0)\n\nRegistration\nThe registration is now closed. \nLocal organizers\n\nDr. Miguel Caro\, Aalto University (Finland)\nDr. Rina Ibragimova\, Aalto University (Finland)\nDora Javor\, Aalto University (Finland)\n\nSponsors\nIn addition to organization support by OCAMM\, the LOBSTER School 2024 is financially supported by the Psi-K network\, the Aalto University Deparment of Chemistry and Materials Science\, and the Finnish CECAM node.
URL:https://ocamm.fi/event/lobster-school-2024/
LOCATION:Aalto Design Factory\, Puumiehenkuja 5A\, Espoo\, 02150\, Finland
CATEGORIES:School
ATTACH;FMTTYPE=image/png:https://ocamm.fi/wp-content/uploads/2023/08/lobster_logo.png
ORGANIZER;CN="Miguel Caro":MAILTO:miguel.caro@aalto.fi
END:VEVENT
END:VCALENDAR